BEGIN:VCALENDAR
VERSION:2.0
PRODID:-//Velvet Rabbit Upcycle - ECPv6.10.2//NONSGML v1.0//EN
CALSCALE:GREGORIAN
METHOD:PUBLISH
X-WR-CALNAME:Velvet Rabbit Upcycle
X-ORIGINAL-URL:https://velvetrabbitupcycle.com
X-WR-CALDESC:Events for Velvet Rabbit Upcycle
REFRESH-INTERVAL;VALUE=DURATION:PT1H
X-Robots-Tag:noindex
X-PUBLISHED-TTL:PT1H
BEGIN:VTIMEZONE
TZID:America/New_York
BEGIN:DAYLIGHT
TZOFFSETFROM:-0500
TZOFFSETTO:-0400
TZNAME:EDT
DTSTART:20250309T070000
END:DAYLIGHT
BEGIN:STANDARD
TZOFFSETFROM:-0400
TZOFFSETTO:-0500
TZNAME:EST
DTSTART:20251102T060000
END:STANDARD
BEGIN:DAYLIGHT
TZOFFSETFROM:-0500
TZOFFSETTO:-0400
TZNAME:EDT
DTSTART:20260308T070000
END:DAYLIGHT
BEGIN:STANDARD
TZOFFSETFROM:-0400
TZOFFSETTO:-0500
TZNAME:EST
DTSTART:20261101T060000
END:STANDARD
END:VTIMEZONE
BEGIN:VEVENT
DTSTART;TZID=America/New_York:20251206T120000
DTEND;TZID=America/New_York:20251206T150000
DTSTAMP:20260420T050431
CREATED:20251021T132127Z
LAST-MODIFIED:20251021T132127Z
UID:385-1765022400-1765033200@velvetrabbitupcycle.com
SUMMARY:Holiday Shop Pop Up!
DESCRIPTION:Velvet Rabbit will be hosting up a variety of local craft vendors\, ranging from soaps to sourdough for our holiday season pop up. Come visit us for a day of shopping\, facepainting and treats for all ages. Then head downtown for more shopping and the Milford tree lighting and visit from Santa! \n 
URL:https://velvetrabbitupcycle.com/event/holiday-shop-pop-up/
LOCATION:Velvet Rabbit Upcycle\, 150 Water St. West Cottage\, Milford\, PA\, 18337\, United States
END:VEVENT
BEGIN:VEVENT
DTSTART;TZID=America/New_York:20260321T140000
DTEND;TZID=America/New_York:20260321T160000
DTSTAMP:20260420T050431
CREATED:20260209T230631Z
LAST-MODIFIED:20260209T230631Z
UID:439-1774101600-1774108800@velvetrabbitupcycle.com
SUMMARY:St. Patty's Day at Velvet Rabbit Upcycle on the parade route Maria 21st from 2-4pm
DESCRIPTION:Come see us in our new space!  Enjoy complimentary mini Irish scones\, teas and Irish cofee\, watch the parade\, have an Irish tarot reading and even get you face painted. We’re calling this our soft open in the new location–come share the luck of the Irish with us! Jiggidy jig on over to 107 West Hardford!
URL:https://velvetrabbitupcycle.com/event/st-pattys-day-at-velvet-rabbit-upcycle-on-the-parade-route-maria-21st-from-2-4pm/
END:VEVENT
BEGIN:VEVENT
DTSTART;TZID=America/New_York:20260524T160000
DTEND;TZID=America/New_York:20260524T200000
DTSTAMP:20260420T050431
CREATED:20260419T135846Z
LAST-MODIFIED:20260419T135846Z
UID:462-1779638400-1779652800@velvetrabbitupcycle.com
SUMMARY:Night Bazaar Milford\, PA
DESCRIPTION:The Night Bazaar Milford\, PA\, by Mother of Many Sanctuary and Velvet Rabbit Upcycle & Emporium is back! \nJoin us May 24th from 4-8 for a caravan of artisans\, music\, food\, games and more. \nOver 35 vendors will be showcasing their art and creations at our new location behind Forest Hall and Velvet Rabbit Upcycle & Emporium. \nParking is abundant in the medical offices on Ann Street and throughout the  downtown neighborhood. \nFood and refreshments available by Milford Hospitality Group. \nEntry is free.
URL:https://velvetrabbitupcycle.com/event/night-bazaar-milford-pa/
LOCATION:Velvet Rabbit Upcycle\, 150 Water St. West Cottage\, Milford\, PA\, 18337\, United States
ORGANIZER;CN="Mother of Many Santuary & Velvet Rabbit Upcycle & Empoium":MAILTO:Nightbazaarmilfordpa@gmail.com
END:VEVENT
BEGIN:VEVENT
DTSTART;TZID=America/New_York:20260621T120000
DTEND;TZID=America/New_York:20260621T190000
DTSTAMP:20260420T050431
CREATED:20260419T141745Z
LAST-MODIFIED:20260419T141745Z
UID:477-1782043200-1782068400@velvetrabbitupcycle.com
SUMMARY:Milford Music Fest--SOS Sound Healing at 12 and Big Boss Sausage at 3pm
DESCRIPTION:Velvet Rabbit Upcycle & Emporium are  thrilled to host Samantha of S\,O\,S\, Sound healing for her good vibes out back at 12pm. \nBigg Boss Sausage 7 Friends will be performing at 3pm.  Bring a chair & get groovy. \nThis event is free and townwide.
URL:https://velvetrabbitupcycle.com/event/milford-music-fest-sos-sound-healing-at-12-and-big-boss-sausage-at-3pm/
END:VEVENT
END:VCALENDAR